BEGIN:VCALENDAR
VERSION:2.0
PRODID:spatie/icalendar-generator
DESCRIPTION:Events from Sokol St. Boniface
X-WR-CALDESC:Events from Sokol St. Boniface
REFRESH-INTERVAL;VALUE=DURATION:PT1440M
X-PUBLISHED-TTL:PT1440M
BEGIN:VTIMEZONE
TZID:Etc/GMT+0
BEGIN:STANDARD
DTSTART:20241231T000000Z
TZOFFSETFROM:+0000
TZOFFSETTO:+0000
END:STANDARD
END:VTIMEZONE
BEGIN:VTIMEZONE
TZID:UTC
BEGIN:STANDARD
DTSTART:20250725T153437Z
TZOFFSETFROM:+0000
TZOFFSETTO:+0000
END:STANDARD
END:VTIMEZONE
BEGIN:VEVENT
UID:28-28
DTSTAMP:20260421T153437Z
SUMMARY:Booked
LOCATION:
ORGANIZER;CN=admin:MAILTO:sokolstboniface@gmail.com
DTSTART;TZID=Etc/GMT+0;VALUE=DATE:20250927
DTEND;TZID=Etc/GMT+0;VALUE=DATE:20250928
X-ALT-DESC;FMTTYPE=TEXT/HTML:
CATEGORIES:General
URL;VALUE=URI:https://sokolstboniface.ca/mc-events/booked-22/
METHOD:PUBLISH
END:VEVENT
END:VCALENDAR